BEGIN:VCALENDAR
VERSION:2.0
PRODID:-//PCOA - ECPv6.15.17.1//NONSGML v1.0//EN
CALSCALE:GREGORIAN
METHOD:PUBLISH
X-WR-CALNAME:PCOA
X-ORIGINAL-URL:https://thekatie.org
X-WR-CALDESC:Events for PCOA
REFRESH-INTERVAL;VALUE=DURATION:PT1H
X-Robots-Tag:noindex
X-PUBLISHED-TTL:PT1H
BEGIN:VTIMEZONE
TZID:UTC
BEGIN:STANDARD
TZOFFSETFROM:+0000
TZOFFSETTO:+0000
TZNAME:UTC
DTSTART:20210101T000000
END:STANDARD
END:VTIMEZONE
BEGIN:VEVENT
DTSTART;TZID=UTC:20221205T110000
DTEND;TZID=UTC:20221205T150000
DTSTAMP:20260426T040207
CREATED:20220402T062146Z
LAST-MODIFIED:20220419T211853Z
UID:3526-1670238000-1670252400@thekatie.org
SUMMARY:First Aid/CPR Training
DESCRIPTION:First Aid & CPR Training and Certification\n\n\nThe AHA’s Heartsaver First Aid CPR AED course trains participants to provide first aid\, CPR\, and use an automated external defibrillator (AED) in a safe\, timely\, and effective manner.   \nWhat does this course teach?  \n\nFirst Aid Basics\nMedical emergencies \nInjury emergencies \nEnvironmental emergencies \nPreventing illness and injury \nAdult CPR and AED use \nOpioid-associated life-threatening emergencies \nChild CPR AED and Infant CPR \n\n Why take the time to become certified?  \n\nYou could save someone’s life in an emergency situation \nOpportunity to increase someone’s comfort during a medical emergency \nThese skills can prevent a circumstance or someone symptoms from worsening while they wait for medical attention \nBeing certified adds value to your community – your training can help to save a persons life in your family\, job\, neighborhood or community! \n\n This is an opportunity to gain the skills you need to help others during times of crisis. This training helps you to recognize the signs that someone needs help and administer the appropriate type and level of care in an emergency situation.   \nIn accordance with CDC guidelines\, masking at PCOA facilities is optional for staff\, volunteers\, and members of the public. CDC recommends people at high risk of serious illness from COVID 19 discuss when they should wear masks and other precautions with their healthcare provider. PCOA representatives will gladly put on a mask at your request. Participants at in-person event(s) will be expected to adhere to distancing and safety guidelines as provided. Guidelines for functions held in community sites not operated by PCOA may vary.
URL:https://thekatie.org/calendar/first-aid-cpr-training-17/
LOCATION:PCOA Katie Dusenberry Healthy Aging Center\, 600 South Country Club Road\, Tucson\, AZ 85716\, Tucson\, AZ\, 85716\, US
CATEGORIES:Class,Event
ATTACH;FMTTYPE=image/jpeg:https://thekatie.org/wp-content/uploads/2021/12/2093_image.jpg
END:VEVENT
BEGIN:VEVENT
DTSTART;TZID=UTC:20221209T100000
DTEND;TZID=UTC:20221209T110000
DTSTAMP:20260426T040207
CREATED:20211109T183930Z
LAST-MODIFIED:20220513T173716Z
UID:1784-1670580000-1670583600@thekatie.org
SUMMARY:Sesión informativa de Dementia Friends
DESCRIPTION:Es hora de cambiar la forma en que las personas piensan\, actúan\, y hablan sobre la demencia.Después de participar en la sesión\, usted podrá describir la demencia y conocer el tipo más común de demencia. Usted comprenderá los cinco mensajes clave sobre demencia y aprenderá a comunicarse eficazmente con una persona que vive con demencia.
URL:https://thekatie.org/calendar/sesion-informativa-de-dementia-friends-5/
CATEGORIES:Class,Event
ATTACH;FMTTYPE=image/jpeg:https://thekatie.org/wp-content/uploads/2021/11/1779_image.jpg
END:VEVENT
BEGIN:VEVENT
DTSTART;TZID=UTC:20221222T130000
DTEND;TZID=UTC:20221222T170000
DTSTAMP:20260426T040207
CREATED:20220402T062149Z
LAST-MODIFIED:20220513T173711Z
UID:3527-1671714000-1671728400@thekatie.org
SUMMARY:First Aid/CPR Training
DESCRIPTION:First Aid & CPR Training and Certification\n\n\nThe AHA’s Heartsaver First Aid CPR AED course trains participants to provide first aid\, CPR\, and use an automated external defibrillator (AED) in a safe\, timely\, and effective manner. \nWhat does this course teach? \n\nFirst Aid Basics\nMedical emergencies\nInjury emergencies\nEnvironmental emergencies\nPreventing illness and injury\nAdult CPR and AED use\nOpioid-associated life-threatening emergencies\nChild CPR AED and Infant CPR\n\nWhy take the time to become certified? \n\nYou could save someone’s life in an emergency situation\nOpportunity to increase someone’s comfort during a medical emergency\nThese skills can prevent a circumstance or someone symptoms from worsening while they wait for medical attention\nBeing certified adds value to your community – your training can help to save a persons life in your family\, job\, neighborhood or community!\n\nThis is an opportunity to gain the skills you need to help others during times of crisis. This training helps you to recognize the signs that someone needs help and administer the appropriate type and level of care in an emergency situation. \nIn accordance with CDC guidelines\, masking at PCOA facilities is optional for staff\, volunteers\, and members of the public. CDC recommends people at high risk of serious illness from COVID 19 discuss when they should wear masks and other precautions with their healthcare provider. PCOA representatives will gladly put on a mask at your request. Participants at in-person event(s) will be expected to adhere to distancing and safety guidelines as provided. Guidelines for functions held in community sites not operated by PCOA may vary.
URL:https://thekatie.org/calendar/first-aid-cpr-training-18/
LOCATION:PCOA Katie Dusenberry Healthy Aging Center\, 600 South Country Club Road\, Tucson\, AZ 85716\, Tucson\, AZ\, 85716\, US
CATEGORIES:Class,Event
ATTACH;FMTTYPE=image/jpeg:https://thekatie.org/wp-content/uploads/2021/12/2093_image.jpg
END:VEVENT
END:VCALENDAR